BEGIN:VCALENDAR
VERSION:2.0
PRODID:-//Davis Genealogy Club - ECPv5.4.0.2//NONSGML v1.0//EN
CALSCALE:GREGORIAN
METHOD:PUBLISH
X-WR-CALNAME:Davis Genealogy Club
X-ORIGINAL-URL:https://davisgenealogy.org
X-WR-CALDESC:Events for Davis Genealogy Club
BEGIN:VTIMEZONE
TZID:America/Los_Angeles
BEGIN:DAYLIGHT
TZOFFSETFROM:-0800
TZOFFSETTO:-0700
TZNAME:PDT
DTSTART:20220313T100000
END:DAYLIGHT
BEGIN:STANDARD
TZOFFSETFROM:-0700
TZOFFSETTO:-0800
TZNAME:PST
DTSTART:20221106T090000
END:STANDARD
END:VTIMEZONE
BEGIN:VEVENT
DTSTART;TZID=America/Los_Angeles:20221115T130000
DTEND;TZID=America/Los_Angeles:20221115T150000
DTSTAMP:20260419T141255
CREATED:20221028T232011Z
LAST-MODIFIED:20221028T232012Z
UID:2668-1668517200-1668524400@davisgenealogy.org
SUMMARY:Annual Meeting and Harvest Festival
DESCRIPTION:An Opportunity to Welcome Our New Members!  \n\n\n\n\n\nPlease join us for all the fun at our Annual Meeting and Fall get together on November 15th\, starting at 1:00pm as we again celebrate the season with refreshments and remembrances of family food and fun.This year we wish to welcome our new members in person! Please come if you can. Our spotlight will be on sharing childhood holiday memories\, share if you wish. Each person will be given 5 minutes. \n\n\n\nAll are encouraged to bring a simple dish to share for our potluck—one that is easy to serve with tongs or toothpicks. Or bring a favorite beverage. If you don’t have a dish to share\, don’t fret. We want to see you here anyway! There’s always plenty of great food\, coffee\, and conversation! \n\n\n\nWe’ve gone Hybrid!Join via Zoom or in person at the Davis Senior Center\, 646 A St.\, Davis.All in-person attendees must register in advance. Please email President@davisgenealogy.org. Masks are strongly suggested. Zoom guest passes also available via email.Free book table available at the meeting for in-person attendees.Reminder\, the library is again open on Wednesdays & Fridays from 1:00 to 3:30 pm. Pleasemark your calendar and drop in! Visit https://DavisGenealogy.org for more information. There’s no meeting in December\, but we’ll see you in January!
URL:https://davisgenealogy.org/event/annual-meeting-and-harvest-festival/
ATTACH;FMTTYPE=image/png:https://davisgenealogy.org/wp-content/uploads/2022/10/7E0E7051-ACA6-49E5-B4D8-9CDAF1CFD30D.png
END:VEVENT
END:VCALENDAR