BEGIN:VCALENDAR
VERSION:2.0
PRODID:-//Davis Genealogy Club - ECPv5.4.0.2//NONSGML v1.0//EN
CALSCALE:GREGORIAN
METHOD:PUBLISH
X-WR-CALNAME:Davis Genealogy Club
X-ORIGINAL-URL:https://davisgenealogy.org
X-WR-CALDESC:Events for Davis Genealogy Club
BEGIN:VTIMEZONE
TZID:America/Los_Angeles
BEGIN:DAYLIGHT
TZOFFSETFROM:-0800
TZOFFSETTO:-0700
TZNAME:PDT
DTSTART:20210314T100000
END:DAYLIGHT
BEGIN:STANDARD
TZOFFSETFROM:-0700
TZOFFSETTO:-0800
TZNAME:PST
DTSTART:20211107T090000
END:STANDARD
END:VTIMEZONE
BEGIN:VEVENT
DTSTART;TZID=America/Los_Angeles:20210503T130000
DTEND;TZID=America/Los_Angeles:20210503T150000
DTSTAMP:20260423T011257
CREATED:20210501T064508Z
LAST-MODIFIED:20210501T082506Z
UID:1531-1620046800-1620054000@davisgenealogy.org
SUMMARY:Discussion Mondays
DESCRIPTION:Discussion Mondays are open discussions held by the Davis Genealogy Club about twice a month on Zoom – it’s our open Mic afternoon!! Bring your successes and troubles\, your finds and frustrations\, to a group of people who share your love of genealogy! If you don’t want to share\, you are more than welcome to come and cheer on or support other club members. We all learn from each other and look forward to seeing you on Discussion Mondays!
URL:https://davisgenealogy.org/event/discussion-mondays/
ATTACH;FMTTYPE=image/png:https://davisgenealogy.org/wp-content/uploads/2021/04/Discussion-Mondays.png
END:VEVENT
END:VCALENDAR