BEGIN:VCALENDAR
VERSION:2.0
PRODID:-//Davis Genealogy Club - ECPv5.4.0.2//NONSGML v1.0//EN
CALSCALE:GREGORIAN
METHOD:PUBLISH
X-WR-CALNAME:Davis Genealogy Club
X-ORIGINAL-URL:https://davisgenealogy.org
X-WR-CALDESC:Events for Davis Genealogy Club
BEGIN:VTIMEZONE
TZID:America/Los_Angeles
BEGIN:DAYLIGHT
TZOFFSETFROM:-0800
TZOFFSETTO:-0700
TZNAME:PDT
DTSTART:20220313T100000
END:DAYLIGHT
BEGIN:STANDARD
TZOFFSETFROM:-0700
TZOFFSETTO:-0800
TZNAME:PST
DTSTART:20221106T090000
END:STANDARD
END:VTIMEZONE
BEGIN:VEVENT
DTSTART;TZID=America/Los_Angeles:20220517T130000
DTEND;TZID=America/Los_Angeles:20220517T130000
DTSTAMP:20260419T083007
CREATED:20220423T041352Z
LAST-MODIFIED:20220423T043636Z
UID:2616-1652792400-1652792400@davisgenealogy.org
SUMMARY:General Meeting & Presentation: Brick by Brick: Tracing Your Home’s Historyby Tina Beaird
DESCRIPTION:Tina Beaird\, owner of Tamarack Genealogy\, is a genealogy & local history librarian at a mid-sized Chicagoland public library. She holds a Masters of Library and Information Science degree with a specialization in Archives/Preservation from Dominican University in River Forest\, IL. Tina has won multiple research and digitization grants over the years to preserve and digitize historic documents and photographs. She lectures nationally on topics including genealogical methodology\, military records\, Scottish research and photo and archival preservation.
URL:https://davisgenealogy.org/event/general-meeting-presentation-brick-by-brick-tracing-your-homes-historyby-tina-beaird/
CATEGORIES:Genealogy Research,Research Methodology
ATTACH;FMTTYPE=image/png:https://davisgenealogy.org/wp-content/uploads/2022/04/CF39D272-FF7A-453A-B049-EDD9F032F30B.png
END:VEVENT
END:VCALENDAR