BEGIN:VCALENDAR
VERSION:2.0
PRODID:-//Davis Genealogy Club - ECPv5.4.0.2//NONSGML v1.0//EN
CALSCALE:GREGORIAN
METHOD:PUBLISH
X-WR-CALNAME:Davis Genealogy Club
X-ORIGINAL-URL:https://davisgenealogy.org
X-WR-CALDESC:Events for Davis Genealogy Club
BEGIN:VTIMEZONE
TZID:America/Los_Angeles
BEGIN:DAYLIGHT
TZOFFSETFROM:-0800
TZOFFSETTO:-0700
TZNAME:PDT
DTSTART:20230312T100000
END:DAYLIGHT
BEGIN:STANDARD
TZOFFSETFROM:-0700
TZOFFSETTO:-0800
TZNAME:PST
DTSTART:20231105T090000
END:STANDARD
END:VTIMEZONE
BEGIN:VEVENT
DTSTART;TZID=America/Los_Angeles:20230117T130000
DTEND;TZID=America/Los_Angeles:20230117T130000
DTSTAMP:20260419T153118
CREATED:20221223T231034Z
LAST-MODIFIED:20221223T231035Z
UID:2691-1673960400-1673960400@davisgenealogy.org
SUMMARY:General Meeting & Presentation: Two Steps Forward\, One Step Back: Is this Genealogy or the Cha-Cha? by Sara Cochran
DESCRIPTION:Revisiting and reevaluating our early research and home sources of information might seem like a waste of time\, but often\, it’s the key to getting past a roadblock in our research. We’ll discuss techniques for finding new clues in records we already have and look at several small case studies to see the value of taking the time to go backward in order to go forward. \n\n\n\nSara is a full-time professional genealogist with over twenty-five years of experience. She holds a Boston University Genealogical Research Certificate\, a Bachelor’s Degree in Library Science\, and is an alumnus of the ProGen Study Group. She especially enjoys breaking down brick walls for her clients\, discovering the stories of black sheep ancestors\, and helping individuals preserve their photographic legacy. She is currently the Treasurer of the Southern California Chapter of the Association of Professional Genealogists\, the Registrar for the Aurantia Chapter of the Daughters of the American Revolution\, the Secretary for the Amanda Stokes Tent\, Daughters of Union Veterans of the Civil War\, and volunteers at the National Archives\, Riverside office. \n\n\n\nWe’ve gone Hybrid!  \n\n\n\nJoin via Zoom or in person at the Davis Senior Center\, 646 A St.\, Davis. \n\n\n\nAll in-person attendees please RSVP via email to President@davisgenealogy.org in advance for this free talk. We will Zoom with our remote presenter in Southern California. Masks are strongly suggested. Zoom guest passes also available via email. \n\n\n\nFree book table available at the meeting for in-person attendees. Refreshments are welcome\, some will be provided by the club. \n\n\n\nThe library is open on Wednesdays & Fridays from 1:00 to 3:30 pm. Please mark your calendar and drop in!
URL:https://davisgenealogy.org/event/general-meeting-presentation-two-steps-forward-one-step-back-is-this-genealogy-or-the-cha-cha-by-sara-cochran/
ATTACH;FMTTYPE=image/png:https://davisgenealogy.org/wp-content/uploads/2022/12/January.png
END:VEVENT
END:VCALENDAR