BEGIN:VCALENDAR
VERSION:2.0
PRODID:-//Davis Genealogy Club - ECPv5.4.0.2//NONSGML v1.0//EN
CALSCALE:GREGORIAN
METHOD:PUBLISH
X-WR-CALNAME:Davis Genealogy Club
X-ORIGINAL-URL:https://davisgenealogy.org
X-WR-CALDESC:Events for Davis Genealogy Club
BEGIN:VTIMEZONE
TZID:America/Los_Angeles
BEGIN:DAYLIGHT
TZOFFSETFROM:-0800
TZOFFSETTO:-0700
TZNAME:PDT
DTSTART:20230312T100000
END:DAYLIGHT
BEGIN:STANDARD
TZOFFSETFROM:-0700
TZOFFSETTO:-0800
TZNAME:PST
DTSTART:20231105T090000
END:STANDARD
END:VTIMEZONE
BEGIN:VEVENT
DTSTART;TZID=America/Los_Angeles:20230130T130000
DTEND;TZID=America/Los_Angeles:20230130T130000
DTSTAMP:20260419T101351
CREATED:20221208T004446Z
LAST-MODIFIED:20221212T180942Z
UID:2682-1675083600-1675083600@davisgenealogy.org
SUMMARY:Topic Talk - Why Do Genealogy and How to Do It Better
DESCRIPTION:Remember why you first started?  Have the reasons changed over time? Is it time to reassess what the heck you are doing?  And the how of doing it—the changes between then and now…is there a way to do it better?  Resolutions\, anyone?  Let’s delve into the weeds like only genealogists can do.  Happy 2023! \n\n\n\nVia Zoom (Members Only – Contact president@davisgenealogy.org to join)
URL:https://davisgenealogy.org/event/topic-talk-why-do-genealogy-and-how-to-do-it-better/
ATTACH;FMTTYPE=image/png:https://davisgenealogy.org/wp-content/uploads/2022/12/AC9EB520-A2FE-4115-93E8-9F4850273F81.png
END:VEVENT
END:VCALENDAR